BEGIN:VCALENDAR
VERSION:2.0
PRODID:icalendar-ruby
CALSCALE:GREGORIAN
METHOD:PUBLISH
BEGIN:VEVENT
DTSTAMP:20260421T140139Z
UID:5-441119@ourpathway.org
DTSTART:20261018T150000Z
DTEND:20261018T160000Z
CLASS:PUBLIC
CREATED:20260421T064934
DESCRIPTION:Sunday Worship
LAST-MODIFIED:20260421T064934
LOCATION:
SUMMARY:Sunday Worship
URL;VALUE=URI:https://ourpathway.org/events/sunday-worship/2026-10-18
END:VEVENT
END:VCALENDAR
